BEGIN:VCALENDAR
VERSION:2.0
PRODID:-//Nordheide Quartier - ECPv6.15.20//NONSGML v1.0//EN
CALSCALE:GREGORIAN
METHOD:PUBLISH
X-WR-CALNAME:Nordheide Quartier
X-ORIGINAL-URL:https://nordheide-quartier.de
X-WR-CALDESC:Veranstaltungen für Nordheide Quartier
REFRESH-INTERVAL;VALUE=DURATION:PT1H
X-Robots-Tag:noindex
X-PUBLISHED-TTL:PT1H
BEGIN:VTIMEZONE
TZID:Europe/Amsterdam
BEGIN:DAYLIGHT
TZOFFSETFROM:+0100
TZOFFSETTO:+0200
TZNAME:CEST
DTSTART:20250330T010000
END:DAYLIGHT
BEGIN:STANDARD
TZOFFSETFROM:+0200
TZOFFSETTO:+0100
TZNAME:CET
DTSTART:20251026T010000
END:STANDARD
BEGIN:DAYLIGHT
TZOFFSETFROM:+0100
TZOFFSETTO:+0200
TZNAME:CEST
DTSTART:20260329T010000
END:DAYLIGHT
BEGIN:STANDARD
TZOFFSETFROM:+0200
TZOFFSETTO:+0100
TZNAME:CET
DTSTART:20261025T010000
END:STANDARD
BEGIN:DAYLIGHT
TZOFFSETFROM:+0100
TZOFFSETTO:+0200
TZNAME:CEST
DTSTART:20270328T010000
END:DAYLIGHT
BEGIN:STANDARD
TZOFFSETFROM:+0200
TZOFFSETTO:+0100
TZNAME:CET
DTSTART:20271031T010000
END:STANDARD
END:VTIMEZONE
BEGIN:VEVENT
DTSTART;TZID=Europe/Amsterdam:20260507T163000
DTEND;TZID=Europe/Amsterdam:20260507T180000
DTSTAMP:20260423T102444
CREATED:20251119T083941Z
LAST-MODIFIED:20251119T083941Z
UID:1582-1778171400-1778176800@nordheide-quartier.de
SUMMARY:work.Stop
DESCRIPTION:Der work.Stop ist unser entspanntes Netzwerktreffen für alle Unternehmen im Nordheide Quartier. Hier kommt man unkompliziert ins Gespräch\, lernt neue Leute kennen und tauscht sich über Ideen und Projekte aus. Für Getränke und kleine Snacks ist natürlich gesorgt. \nHerzlich eingeladen sind alle Mitarbeitenden der Firmen im Nordheide Quartier – und wer mag\, bringt einfach Gäste aus dem eigenen Netzwerk mit.
URL:https://nordheide-quartier.de/event/work-stop-6/
LOCATION:Nordheide Quartier\, Buchholz\, 21244\, Germany
ATTACH;FMTTYPE=image/jpeg:https://nordheide-quartier.de/wp-content/uploads/2023/05/Work.Stop_.jpg
END:VEVENT
BEGIN:VEVENT
DTSTART;TZID=Europe/Amsterdam:20260621T114500
DTEND;TZID=Europe/Amsterdam:20260621T134500
DTSTAMP:20260423T102444
CREATED:20250210T093305Z
LAST-MODIFIED:20260302T112506Z
UID:1488-1782042300-1782049500@nordheide-quartier.de
SUMMARY:Buchholzer Stadtlauf - Staffel
DESCRIPTION:Am Sonntag\, 21. Juni 2026 ist wieder Buchholzer Stadtlauf!\nWer ist sportlich und möchte gemeinsam mit 3 weiteren Nordheide Quartierlern beim Staffelstart mitmachen? \nHier die facts:\ngestartet wird um 11.45 Uhr in der Buchholzer Innenstadt\njede/r Läufer/in läuft ca. 5 km\nStartgeld: übernimmt das Nordheide Quartier\nAnmeldung und alles Organisatorische über uns\nAnmeldeschluss ist der 31.05. \nWer ist dabei?\nAnmeldungen über kontakt@nordheide-quartier.de (Betreff: Staffel) \n  \n 
URL:https://nordheide-quartier.de/event/buchholzer-stadtlauf-staffel/
LOCATION:Buchholz Innenstadt\, Buchholz\, 21244
ATTACH;FMTTYPE=image/png:https://nordheide-quartier.de/wp-content/uploads/2025/02/Stadtlauf-Staffel-2026-4_3.png
END:VEVENT
BEGIN:VEVENT
DTSTART;TZID=Europe/Amsterdam:20260625T163000
DTEND;TZID=Europe/Amsterdam:20260625T180000
DTSTAMP:20260423T102444
CREATED:20251119T084831Z
LAST-MODIFIED:20251119T084831Z
UID:1590-1782405000-1782410400@nordheide-quartier.de
SUMMARY:work.Stop summer edition
DESCRIPTION:Wir feiern den Sommer! Unser nächster work.Stop wird ein kleines Sommerfest – entspannt\, offen und perfekt zum Netzwerken. Auf der Wiese am ISI-Zentrum erwarten euch kühle Getränke\, leckere Snacks und eine lockere Atmosphäre. Sonnenbrille nicht vergessen! \nHerzlich willkommen sind alle Mitarbeitenden aus dem Nordheide Quartier – gern auch mit Gästen aus euren Netzwerken.
URL:https://nordheide-quartier.de/event/work-stop-summer-edition/
LOCATION:ISI-Zentrum für Gründung\, Business und Innovation\, Bäckerstraße 6\, Buchholz\, 21244
ATTACH;FMTTYPE=image/jpeg:https://nordheide-quartier.de/wp-content/uploads/2023/05/Work.Stop-Sommer.jpg
END:VEVENT
BEGIN:VEVENT
DTSTART;TZID=Europe/Amsterdam:20260813T140000
DTEND;TZID=Europe/Amsterdam:20260813T150000
DTSTAMP:20260423T102444
CREATED:20251119T082913Z
LAST-MODIFIED:20251119T082913Z
UID:1575-1786629600-1786633200@nordheide-quartier.de
SUMMARY:ausbilder.Netzwerk
DESCRIPTION:Unser Online-Format richtet sich an alle Ausbilder und Personalverantwortliche hier im Nordheide Quartier. Hier findet ein Austausch über alle Themen rund um Ausbildung statt
URL:https://nordheide-quartier.de/event/ausbilder-netzwerk-7/
LOCATION:online\, Germany
ATTACH;FMTTYPE=image/png:https://nordheide-quartier.de/wp-content/uploads/2024/11/ausbildernetzwerk.png
END:VEVENT
BEGIN:VEVENT
DTSTART;TZID=Europe/Amsterdam:20260820T163000
DTEND;TZID=Europe/Amsterdam:20260820T180000
DTSTAMP:20260423T102444
CREATED:20251119T084046Z
LAST-MODIFIED:20251119T084046Z
UID:1584-1787243400-1787248800@nordheide-quartier.de
SUMMARY:work.Stop
DESCRIPTION:Der work.Stop ist unser entspanntes Netzwerktreffen für alle Unternehmen im Nordheide Quartier. Hier kommt man unkompliziert ins Gespräch\, lernt neue Leute kennen und tauscht sich über Ideen und Projekte aus. Für Getränke und kleine Snacks ist natürlich gesorgt. \nHerzlich eingeladen sind alle Mitarbeitenden der Firmen im Nordheide Quartier – und wer mag\, bringt einfach Gäste aus dem eigenen Netzwerk mit.
URL:https://nordheide-quartier.de/event/work-stop-7/
LOCATION:Nordheide Quartier\, Buchholz\, 21244\, Germany
ATTACH;FMTTYPE=image/jpeg:https://nordheide-quartier.de/wp-content/uploads/2023/05/Work.Stop_.jpg
END:VEVENT
BEGIN:VEVENT
DTSTART;TZID=Europe/Amsterdam:20260930T090000
DTEND;TZID=Europe/Amsterdam:20260930T170000
DTSTAMP:20260423T102444
CREATED:20260117T153710Z
LAST-MODIFIED:20260127T140457Z
UID:1603-1790758800-1790787600@nordheide-quartier.de
SUMMARY:Azubi Knigge: Respect in Action
DESCRIPTION:Dieses praxisnahe Seminar unterstützt Auszubildende dabei\, ihre eigene Wirkung im Berufsalltag bewusst zu gestalten und eine positive\, professionelle Haltung zu entwickeln. Im Mittelpunkt stehen moderne Umgangsformen\, die zum Ausbildungsbetrieb\, zum Team und zu den täglichen Kontakten passen – zeitgemäß\, alltagstauglich und ohne Verstellen. \nDie Teilnehmenden lernen\, klar\, respektvoll und selbstbewusst aufzutreten und ihre Kommunikation sicher zu gestalten. Durch viele praktische Übungen und Selbsterfahrungen entwickeln sie ein gutes Gespür für den Umgang mit Kolleginnen und Kollegen\, Vorgesetzten sowie externen Kontakten. Themen wie Etikette\, Kommunikation\, Small Talk\, Teamfähigkeit und der konstruktive Umgang mit Feedback werden erlebnisorientiert vermittelt. \nSeminarzielZiel des Seminars ist es\, Auszubildenden Sicherheit\, Orientierung und Selbstvertrauen für ein überzeugendes\, positives Auftreten im beruflichen Umfeld zu geben. Sie nehmen einen prall gefüllten „Tool-Koffer“ aus Formulierungen\, Verhaltensweisen und Impulsen mit\, die den Arbeitsalltag spürbar erleichtern\, Professionalität stärken und für mehr Gelassenheit sorgen. \nEin wertvoller Baustein für Unternehmen\, die ihre Auszubildenden von Anfang an in ihrer persönlichen und sozialen Kompetenz stärken möchten. \nSeminarinhalte:\n– Basiswissen (Grundhaltungen) für einen wertschätzenden\, respektvollen Umgang\n– Der wichtige erste Eindruck\n– Etikette aktuell – was ist veraltet\, was gilt immer noch?\n– Verhaltens- und Kommunikationsregeln im direkten Kontakt\, am Telefon\, per Mail\n– Sympathien gewinnen (gekonnter Smalltalk; zeitgemäße moderne Umgangsformen)\n– Dresscode im Unternehmen\n– Umgang mit Kritik\n– Respekt für jede Generation \nDatum:      Mi.\, 30. September 2026 | 9-17 Uhr\nOrt:            ISI-Zentrum für Gründung\, Business und Innovation\, Bäckerstraße 6\, Buchholz\nKosten:     Nordheide Quartier e.V. – Mitglieder zahlen 99\,00 € pro Teilnehmer\nNicht-Mitglieder 199\,50 € pro Teilnehmer\nPlatz:         max. 12 Teilnehmer\nIn dem Teilnahmebetrag sind Getränke\, Snacks und ein leichtes Mittagessen enthalten. \nReferentin ist Nicole von der Linde \nAnmeldungen bitte bis spätestens 31. August 2026 an kontakt@nordheide-quartier.de\, Betreff Azubi-Knigge\nDie Plätze werden nach Anmeldedatum vergeben.
URL:https://nordheide-quartier.de/event/azubi-knigge-respect-in-action/
LOCATION:ISI-Zentrum für Gründung\, Business und Innovation\, Bäckerstraße 6\, Buchholz\, 21244
ATTACH;FMTTYPE=image/png:https://nordheide-quartier.de/wp-content/uploads/2026/01/Azubi-Knigge-4_3.png
END:VEVENT
BEGIN:VEVENT
DTSTART;TZID=Europe/Amsterdam:20261015T163000
DTEND;TZID=Europe/Amsterdam:20261015T180000
DTSTAMP:20260423T102444
CREATED:20251119T084157Z
LAST-MODIFIED:20251119T084157Z
UID:1586-1792081800-1792087200@nordheide-quartier.de
SUMMARY:work.Stop
DESCRIPTION:Der work.Stop ist unser entspanntes Netzwerktreffen für alle Unternehmen im Nordheide Quartier. Hier kommt man unkompliziert ins Gespräch\, lernt neue Leute kennen und tauscht sich über Ideen und Projekte aus. Für Getränke und kleine Snacks ist natürlich gesorgt. \nHerzlich eingeladen sind alle Mitarbeitenden der Firmen im Nordheide Quartier – und wer mag\, bringt einfach Gäste aus dem eigenen Netzwerk mit.
URL:https://nordheide-quartier.de/event/work-stop-8/
LOCATION:Nordheide Quartier\, Buchholz\, 21244\, Germany
ATTACH;FMTTYPE=image/jpeg:https://nordheide-quartier.de/wp-content/uploads/2023/05/Work.Stop_.jpg
END:VEVENT
BEGIN:VEVENT
DTSTART;TZID=Europe/Amsterdam:20261112T140000
DTEND;TZID=Europe/Amsterdam:20261112T150000
DTSTAMP:20260423T102444
CREATED:20251119T083056Z
LAST-MODIFIED:20251119T083056Z
UID:1577-1794492000-1794495600@nordheide-quartier.de
SUMMARY:ausbilder.Netzwerk
DESCRIPTION:Unser Online-Format richtet sich an alle Ausbilder und Personalverantwortliche hier im Nordheide Quartier. Hier findet ein Austausch über alle Themen rund um Ausbildung statt
URL:https://nordheide-quartier.de/event/ausbilder-netzwerk-8/
LOCATION:online\, Germany
ATTACH;FMTTYPE=image/png:https://nordheide-quartier.de/wp-content/uploads/2024/11/ausbildernetzwerk.png
END:VEVENT
BEGIN:VEVENT
DTSTART;TZID=Europe/Amsterdam:20261209T163000
DTEND;TZID=Europe/Amsterdam:20261209T180000
DTSTAMP:20260423T102444
CREATED:20251119T084435Z
LAST-MODIFIED:20251119T084435Z
UID:1588-1796833800-1796839200@nordheide-quartier.de
SUMMARY:Glühwein.Stop
DESCRIPTION:Zum Jahresausklang kommen wir noch einmal in entspannter Runde zusammen – zum Netzwerken\, Klönen und Austauschen. Dieses Mal erwarten euch Glühwein\, Punsch und weihnachtliche Leckereien. Sehr gern könnt ihr auch Menschen aus euren Netzwerken mitbringen. \nWir treffen uns im ISI-Zentrum für Gründung\, Business und Innovation\, Bäckerstraße 6.Bitte warm anziehen – bei trockenem Wetter findet unser Treffen draußen auf dem Parkplatz statt.
URL:https://nordheide-quartier.de/event/gluehwein-stop-2/
LOCATION:Nordheide Quartier\, Buchholz\, 21244\, Germany
ATTACH;FMTTYPE=image/png:https://nordheide-quartier.de/wp-content/uploads/2023/08/Work.Stop_.png
END:VEVENT
END:VCALENDAR